BEGIN:VCALENDAR
VERSION:2.0
PRODID:-//ChamberMaster//Event Calendar 2.0//EN
METHOD:PUBLISH
X-PUBLISHED-TTL:P3D
REFRESH-INTERVAL:P3D
CALSCALE:GREGORIAN
BEGIN:VEVENT
DTSTART:20260504T203000Z
DTEND:20260504T213000Z
X-MICROSOFT-CDO-ALLDAYEVENT:FALSE
SUMMARY:Writers Workshop - Developing a Must-Have Manuscript
DESCRIPTION:Writers' Workshop - Developing a Must-Have Manuscript!\n\nLumpkin County Library Branch\n\n\n\nIn this workshop we will discuss how to create an irresistible manuscript. Led by author\, editor\, and publisher Juliet Rose. Free\, but registration is required 706-864-3668.
X-ALT-DESC;FMTTYPE=text/html:<h2>Writers&#39\; Workshop - Developing a Must-Have Manuscript!</h2>\n\n<div><strong>Lumpkin County Library Branch</strong><br />\n<br />\n<span style="background-color:transparent\; color:rgb(0\, 0\, 0)\; font-family:franklin gothic\,sans-serif\; font-size:10pt">In this workshop we will discuss how to create an irresistible manuscript. Led by author\, editor\, and publisher Juliet Rose. Free\, but registration is required 706-864-3668.</span></div>\n
LOCATION:Lumpkin County Library 56 Mechanicsville Rd Dahlonega GA 30533
UID:e.69.86816
SEQUENCE:3
DTSTAMP:20260419T135929Z
URL:https://members.dahlonega.org/events/details/writers-workshop-developing-a-must-have-manuscript-86816
END:VEVENT

END:VCALENDAR
