BEGIN:VCALENDAR
VERSION:2.0
PRODID:-//ChamberMaster//Event Calendar 2.0//EN
METHOD:PUBLISH
X-PUBLISHED-TTL:P3D
REFRESH-INTERVAL:P3D
CALSCALE:GREGORIAN
BEGIN:VEVENT
DTSTART:20180911T230000Z
DTEND:20180912T020000Z
X-MICROSOFT-CDO-ALLDAYEVENT:FALSE
SUMMARY:Visiting Author Karen Salyer McElmurray- Dahlonega Campus
DESCRIPTION:Karen Salyer McElmurray\, author of the memoir\, Surrendered Child: A Birth Mother's Journey (Association of Writers & Writing Programs Award)\, the novels\, The Motel of the Stars (Editor's Pick by Oxford American)\, and Strange Birds in the Tree of Heaven (the Chaffin Award for Appalachian Writing)\, and coeditor of a Collection of Essays\, Walk Till the Dogs Get Mean: Meditations on the Forbidden from Contemporary Appalachia\, will be reading from "Trip Around the World" an essay about place\, self\, and identify in Appalachia" She will be reading on the Dahlonega Campus on Tuesday\, September 11th at 7:00 pm in Hoag Auditorium.
X-ALT-DESC;FMTTYPE=text/html:<span style="color:rgb(29\, 33\, 41)\; font-family:helvetica\,arial\,sans-serif\; font-size:14px">Karen Salyer McElmurray\, author of the memoir\, Surrendered Child: A Birth Mother&rsquo\;s Journey (Association of Writers &amp\; Writing Programs Award)\, the novels\, The Motel of the Stars (Editor&rsquo\;s Pick by Oxford American)\, and Strange Birds in the Tree of Heaven (the Chaffin Award for Appalachian Writing)\, and coeditor of a Collection of Essays\, Walk Till the Dogs Get Mean: Meditations on the Forbidden from Contemporary Appalachia\, will be reading from &ldquo\;Trip Around the World&rdquo\; an essay about place\, self\, and identify in Appalachia&quot\; She will be reading on the Dahlonega Campus on Tuesday\, September 11th at 7:00 pm in Hoag Auditorium.</span>
LOCATION:University of North Georgia\, Dahlonega Campus Hoag Auditorium 82 College Circle Dahlonega\, Georgia 30597
UID:e.69.49775
SEQUENCE:3
DTSTAMP:20260420T090033Z
URL:https://members.dahlonega.org/events/details/visiting-author-karen-salyer-mcelmurray-dahlonega-campus-49775
END:VEVENT

END:VCALENDAR
