BEGIN:VCALENDAR
VERSION:2.0
PRODID:-//ChamberMaster//Event Calendar 2.0//EN
METHOD:PUBLISH
X-PUBLISHED-TTL:P3D
REFRESH-INTERVAL:P3D
CALSCALE:GREGORIAN
BEGIN:VEVENT
DTSTART:20180907T183000Z
DTEND:20180907T203000Z
X-MICROSOFT-CDO-ALLDAYEVENT:FALSE
SUMMARY:Visiting Author Karen Salyer McElmurray- Blue Ridge Campus
DESCRIPTION:Karen Salyer McElmurray\, author of the memoir\, Surrendered Child: A Birth Mother's Journey (Association of Writers & Writing Programs Award)\, the novels\, The Motel of the Stars (Editor's Pick by Oxford American)\, and Strange Birds in the Tree of Heaven (the Chaffin Award for Appalachian Writing)\, and coeditor of a Collection of Essays\, Walk Till the Dogs Get Mean: Meditations on the Forbidden from Contemporary Appalachia\, will be reading from "Trip Around the World" an essay about place\, self\, and identify in Appalachia" She will be reading on the Blue Ridge Campus on Wednesday\, September 12th at 2:20 pm in room 103.
X-ALT-DESC;FMTTYPE=text/html:<span style="color:rgb(29\, 33\, 41)\; font-family:helvetica\,arial\,sans-serif\; font-size:14px">Karen Salyer McElmurray\, author of the memoir\, Surrendered Child: A Birth Mother&rsquo\;s Journey (Association of Writers &amp\; Writing Programs Award)\, the novels\, The Motel of the Stars (Editor&rsquo\;s Pick by Oxford American)\, and Strange Birds in the Tree of Heaven (the Chaffin Award for Appalachian Writing)\, and coeditor of a Collection of Essays\, Walk Till the Dogs Get Mean: Meditations on the Forbidden from Contemporary Appalachia\, will be reading from &ldquo\;Trip Around the World&rdquo\; an essay about place\, self\, and identify in Appalachia&quot\; She will be reading on the Blue Ridge Campus on Wednesday\, September 12th at 2:20 pm in room 103.</span>
LOCATION:University of North Georgia\, Blue Ridge Campus 83 Dunbarton Farm Road Blue Ridge\, Georgia 30513 Room 103
UID:e.69.49777
SEQUENCE:3
DTSTAMP:20260420T085943Z
URL:https://members.dahlonega.org/events/details/visiting-author-karen-salyer-mcelmurray-blue-ridge-campus-49777
END:VEVENT

END:VCALENDAR
