BEGIN:VCALENDAR
VERSION:2.0
PRODID:-//ChamberMaster//Event Calendar 2.0//EN
METHOD:PUBLISH
X-PUBLISHED-TTL:P3D
REFRESH-INTERVAL:P3D
CALSCALE:GREGORIAN
BEGIN:VEVENT
DTSTART:20180929T230000Z
DTEND:20180930T010000Z
X-MICROSOFT-CDO-ALLDAYEVENT:FALSE
SUMMARY:The Crimson Moon: TOM & JULI (Classic Covers & Requests!)
DESCRIPTION:TOM & JULI bring you classic covers from the 60's on while you wine and dine! The husband and wife duo of Tom & Juli Theobald\, have been playing and singing together for years and performing at listening venues like Atlanta's renowned 'Swallow at the Hollow'\, as well as many years at The Crimson Moon. With Tom's guitarmanship and vocals\, and Juli's amazing harmonies and vocals\, they are a delight to listen to! Between the two\, Tom & Juli have nearly a 1000 songs from the 60's forward in their well-honed repertoire - and LOVE to be challenged by their audience's requests! So bring your friends and come out to enjoy their music! For more info visit: www.facebook.com/Tomandjulimusic/
X-ALT-DESC;FMTTYPE=text/html:TOM &amp\; JULI bring you classic covers from the 60&rsquo\;s on while you wine and dine! The husband and wife duo of Tom &amp\; Juli Theobald\, have been playing and singing together for years and performing at listening venues like Atlanta&#39\;s renowned &#39\;Swallow at the Hollow&#39\;\, as well as many years at The Crimson Moon. With Tom&#39\;s guitarmanship and vocals\, and Juli&#39\;s amazing harmonies and vocals\, they are a delight to listen to! Between the two\, Tom &amp\; Juli have nearly a 1000 songs from the 60&rsquo\;s forward in their well-honed repertoire - and LOVE to be challenged by their audience&#39\;s requests! So bring your friends and come out to enjoy their music! For more info visit: www.facebook.com/Tomandjulimusic/
LOCATION:The Crimson Moon\, Dahlonega
UID:e.69.49792
SEQUENCE:3
DTSTAMP:20260420T091201Z
URL:https://members.dahlonega.org/events/details/the-crimson-moon-tom-juli-classic-covers-requests-49792
END:VEVENT

END:VCALENDAR
