BEGIN:VCALENDAR
VERSION:2.0
PRODID:-//ChamberMaster//Event Calendar 2.0//EN
METHOD:PUBLISH
X-PUBLISHED-TTL:P3D
REFRESH-INTERVAL:P3D
CALSCALE:GREGORIAN
BEGIN:VEVENT
DTSTART:20180923T000000Z
DTEND:20180923T020000Z
X-MICROSOFT-CDO-ALLDAYEVENT:FALSE
SUMMARY:The Crimson Moon: CATHERINE BRITT (Hit Americana/ Country from 'Down Under')!
DESCRIPTION:Catherine Britt is an Australian songwriter who has already packed a respected and highly acclaimed career into her first two decades as a recording artist. Now\, in 2018\, a new chapter begins with the release of her seventh studio album\, Catherine Britt & The Cold Cold Hearts. From Newcastle to Nashville\, Catherine made the move to the home of country music at just 17 years old.  Upon returning to Australia in 2009\, Catherine set about recording her debut full length album Dusty Smiles and Heartbreak Cures\, the first of five consecutive albums nominated for Album Of The Year at the CMAA (Country Music Awards of Australia). The accolades didn't stop there. Along the way she has received five Golden Guitar Awards\, the CMA Global Artist Of The Year award in 2010 and six ARIA Award nominations for Best Country Album. More at: CatherineBritt.com!
X-ALT-DESC;FMTTYPE=text/html:Catherine Britt is an Australian songwriter who has already packed a respected and highly acclaimed career into her first two decades as a recording artist. Now\, in 2018\, a new chapter begins with the release of her seventh studio album\, Catherine Britt &amp\; The Cold Cold Hearts. From Newcastle to Nashville\, Catherine made the move to the home of country music at just 17 years old.&nbsp\; Upon returning to Australia in 2009\, Catherine set about recording her debut full length album Dusty Smiles and Heartbreak Cures\, the first of five consecutive albums nominated for Album Of The Year at the CMAA (Country Music Awards of Australia). The accolades didn&rsquo\;t stop there. Along the way she has received five Golden Guitar Awards\, the CMA Global Artist Of The Year award in 2010 and six ARIA Award nominations for Best Country Album. More at: CatherineBritt.com!
LOCATION:The Crimson Moon
UID:e.69.49462
SEQUENCE:3
DTSTAMP:20260420T091523Z
URL:https://members.dahlonega.org/events/details/the-crimson-moon-catherine-britt-hit-americana-country-from-down-under-49462
END:VEVENT

END:VCALENDAR
