BEGIN:VCALENDAR
VERSION:2.0
PRODID:-//ChamberMaster//Event Calendar 2.0//EN
METHOD:PUBLISH
X-PUBLISHED-TTL:P3D
REFRESH-INTERVAL:P3D
CALSCALE:GREGORIAN
BEGIN:VEVENT
DTSTART:20180908T000000Z
DTEND:20180908T020000Z
X-MICROSOFT-CDO-ALLDAYEVENT:FALSE
SUMMARY:The Crimson Moon: BETSY FRANCK (Soulful Blues)
DESCRIPTION:Betsy Franck is a soulful Americana Blues singer-songwriter\, and guitarist. Most recently settling in the North GA mountains\, she has spent the last four years in Nashville TN\, and over a decade in Athens\, GA performing and recording 5 studio albums. Franck has shared the stage with a long list of musical favorites from Loretta Lynn to John Popper to Lucinda Williams. Her new EP recorded at Southern Ground Studios in the heart of Nashville\, features the single "Words"\, scheduled for release in fall 2018. Previous works can be found at: www.betsyfranck.com
X-ALT-DESC;FMTTYPE=text/html:Betsy Franck is a soulful Americana Blues singer-songwriter\, and guitarist. Most recently settling in the North GA mountains\, she has spent the last four years in Nashville TN\, and over a decade in Athens\, GA performing and recording 5 studio albums. Franck has shared the stage with a long list of musical favorites from Loretta Lynn to John Popper to Lucinda Williams. Her new EP recorded at Southern Ground Studios in the heart of Nashville\, features the single &ldquo\;Words&rdquo\;\, scheduled for release in fall 2018. Previous works can be found at: www.betsyfranck.com
LOCATION:The Crimson Moon\, Dahlonega
UID:e.69.49484
SEQUENCE:3
DTSTAMP:20260420T091942Z
URL:https://members.dahlonega.org/events/details/the-crimson-moon-betsy-franck-soulful-blues-49484
END:VEVENT

END:VCALENDAR
