BEGIN:VCALENDAR
VERSION:2.0
PRODID:-//ChamberMaster//Event Calendar 2.0//EN
METHOD:PUBLISH
X-PUBLISHED-TTL:P3D
REFRESH-INTERVAL:P3D
CALSCALE:GREGORIAN
BEGIN:VEVENT
DTSTART:20260502T170000Z
DTEND:20260502T180000Z
X-MICROSOFT-CDO-ALLDAYEVENT:FALSE
SUMMARY:Reading to Dogs
DESCRIPTION:Reading to Dogs\n\n1st Grade & Up\n\nReading to dogs helps children build self confidence in a comfortable\, accepting environment. This is an opportunity for your child to practice his or her reading skills for fifteen minutes\, working one-on-one with a therapy dog and his or her trainer. Register at the circulation desk or call 706-864-3668.
X-ALT-DESC;FMTTYPE=text/html:<h2>Reading to Dogs</h2>\n\n<div>1st Grade &amp\; Up<br />\nReading to dogs helps children build self confidence in a comfortable\, accepting environment. This is an opportunity for your child to practice his or her reading skills for fifteen minutes\, working one-on-one with a therapy dog and his or her trainer. Register at the circulation desk or call 706-864-3668.</div>\n
LOCATION:Lumpkin County Library 56 Mechanicsville Rd Dahlonega GA 30533
UID:e.69.86814
SEQUENCE:3
DTSTAMP:20260419T140138Z
URL:https://members.dahlonega.org/events/details/reading-to-dogs-05-02-2026-86814
END:VEVENT

END:VCALENDAR
