BEGIN:VCALENDAR
VERSION:2.0
PRODID:-//ChamberMaster//Event Calendar 2.0//EN
METHOD:PUBLISH
X-PUBLISHED-TTL:P3D
REFRESH-INTERVAL:P3D
CALSCALE:GREGORIAN
BEGIN:VEVENT
DTSTART:20160619T220000Z
DTEND:20160620T030000Z
X-MICROSOFT-CDO-ALLDAYEVENT:FALSE
SUMMARY:R-Ranch's Mountain Top Rodeo
DESCRIPTION:R-Ranch In The Mountains will host its 27th MOUNTAIN TOP RODEO\, one of the largest gatherings in the region.
X-ALT-DESC;FMTTYPE=text/html:R-Ranch In The Mountains will host its 27th MOUNTAIN TOP RODEO\, one of the largest gatherings in the region.&nbsp\;
LOCATION:R-Ranch In The Mountains\, 65 R-Ranch Road off Stone Pile Gap Road from Hwy's 19/60 north.
UID:e.69.30699
SEQUENCE:3
DTSTAMP:20260422T102701Z
URL:https://members.dahlonega.org/events/details/r-ranch-s-mountain-top-rodeo-06-19-2016-30699
END:VEVENT

END:VCALENDAR
