BEGIN:VCALENDAR
VERSION:2.0
PRODID:-//ChamberMaster//Event Calendar 2.0//EN
METHOD:PUBLISH
X-PUBLISHED-TTL:P3D
REFRESH-INTERVAL:P3D
CALSCALE:GREGORIAN
BEGIN:VEVENT
DTSTART;VALUE=DATE:20160501
DTEND;VALUE=DATE:20160502
TRANSP:TRANSPARENT
X-MICROSOFT-CDO-ALLDAYEVENT:TRUE
SUMMARY:Launch of "Rick's at Achasta" - A New Dahlonega Dining Experience
DESCRIPTION:Achasta is proud to announce the new restaurant launch of "Rick's at Achasta"!  This is a wonderful collaboration between Rick Clark\, a resident at Achasta and business owner\, and Rick Whorf\, a highly-regarded Executive Chef!
X-ALT-DESC;FMTTYPE=text/html:Achasta is proud to announce the new restaurant launch of &quot\;Rick&#39\;s at Achasta&quot\;! &nbsp\;This is a wonderful collaboration between Rick Clark\, a resident at Achasta and business owner\, and Rick Whorf\, a highly-regarded Executive Chef! &nbsp\;
LOCATION:Achasta Clubhouse
UID:e.69.30674
SEQUENCE:3
DTSTAMP:20260422T093408Z
URL:https://members.dahlonega.org/events/details/launch-of-rick-s-at-achasta-a-new-dahlonega-dining-experience-05-01-2016-30674
END:VEVENT

END:VCALENDAR
