BEGIN:VCALENDAR
VERSION:2.0
PRODID:-//ChamberMaster//Event Calendar 2.0//EN
METHOD:PUBLISH
X-PUBLISHED-TTL:P3D
REFRESH-INTERVAL:P3D
CALSCALE:GREGORIAN
BEGIN:VEVENT
DTSTART:20160512T200000Z
DTEND:20160515T150000Z
X-MICROSOFT-CDO-ALLDAYEVENT:FALSE
SUMMARY:FEMININE IN MOVEMENT Journey into the Blue Ridge Mountains of Georgia
DESCRIPTION:Join Jiwan Kaur and Magali Wilensky in the majestic powerful Blue Ridge Mountains as we embark upon our quest to embrace the power\, grace and glory of our feminine energy. Healing old belief patterns that so often take us out of our Divine light. Give yourself the gift of getting out of the everyday routine and expand into the luscious\, richness of the earth and her sacred powers at Dahlonega Spa Resort. Each day Magali and Jiwan will nourish your creativity with sacred ceremonies opening your heart as you begin to explore the feminine tenderness within. We will journey into deep listening and a gentle realizing of new found treasures of strength\, courage\, bliss and joy!\n\n\n\nPlease visit www.omechaye.com to register today\n\n\n\nThis Magical Journey Will Include:\n\n     Double Occupancy Room*( please see below if you are NOT signing up with roommate)\n\n     Vegetarian Meals\n\n     Kundalini Yoga\n\n     Meditation\n\n     Art Exploration\n\n     Sound Healing\n\n     Deep Soul Listening\n\n \n\n**If you are signing up with a roommate please include her name for us so we know. If you do not sign up with a roommate you will be assigned one as registrations come in. If there is not a roommate to put you with there will be a single room fee charged which will be an additional $300.00 for cabins (if available) or additional $300.00 for single rooms available in the main house.
X-ALT-DESC;FMTTYPE=text/html:Join Jiwan Kaur and Magali Wilensky in the majestic powerful Blue Ridge Mountains as we embark upon our quest to embrace the power\, grace and glory of our feminine energy. Healing old belief patterns that so often take us out of our Divine light. Give yourself the gift of getting out of the everyday routine and expand into the luscious\, richness of the earth and her sacred powers at Dahlonega Spa Resort. Each day Magali and Jiwan will nourish your creativity with sacred ceremonies opening your heart as you begin to explore the feminine tenderness within. We will journey into deep listening and a gentle realizing of new found treasures of strength\, courage\, bliss and joy!<br />\n<br />\nPlease visit <a href="http://www.omechaye.com">www.omechaye.com</a> to register today<br />\n<br />\nThis Magical Journey Will Include:<br />\n&bull\;&nbsp\;&nbsp\; &nbsp\;Double Occupancy Room*( please see below if you are NOT signing up with roommate)<br />\n&bull\;&nbsp\;&nbsp\; &nbsp\;Vegetarian Meals<br />\n&bull\;&nbsp\;&nbsp\; &nbsp\;Kundalini Yoga<br />\n&bull\;&nbsp\;&nbsp\; &nbsp\;Meditation<br />\n&bull\;&nbsp\;&nbsp\; &nbsp\;Art Exploration<br />\n&bull\;&nbsp\;&nbsp\; &nbsp\;Sound Healing<br />\n&bull\;&nbsp\;&nbsp\; &nbsp\;Deep Soul Listening<br />\n&nbsp\;<br />\n**If you are signing up with a roommate please include her name for us so we know. If you do not sign up with a roommate you will be assigned one as registrations come in. If there is not a roommate to put you with there will be a single room fee charged which will be an additional $300.00 for cabins (if available) or additional $300.00 for single rooms available in the main house.
LOCATION:Dahlonega Spa Resort\, 400 Blueberry Hill\, Dahlonega\, Ga 30533
UID:e.69.30512
SEQUENCE:3
DTSTAMP:20260422T093805Z
URL:https://members.dahlonega.org/events/details/feminine-in-movement-journey-into-the-blue-ridge-mountains-of-georgia-05-12-2016-30512
END:VEVENT

END:VCALENDAR
