BEGIN:VCALENDAR
VERSION:2.0
PRODID:-//ChamberMaster//Event Calendar 2.0//EN
METHOD:PUBLISH
X-PUBLISHED-TTL:P3D
REFRESH-INTERVAL:P3D
CALSCALE:GREGORIAN
BEGIN:VEVENT
DTSTART:20160413T210000Z
DTEND:20160414T010000Z
X-MICROSOFT-CDO-ALLDAYEVENT:FALSE
SUMMARY:Dodgeball for Dahlonega
DESCRIPTION:The Prevent Child Abuse Club at UNG is hosting a double elimination dodgeball tournament to benefit Lumpkin County Family Connection on April 13th. Get a team together and register with Alison at amkigh0743@ung.edu! Earn easy community service hours while having a blast!\n\n\n\nTeams of 7 enter at $35! Come and represent your organaztion or group. Facutly\, Students\, Community Members\, and Clubs are invited to participate!! All are encouraged to make a team and represent themselves! First place team will receive prizes. \n\n\n\nOur raffle winners will be announced during the games!\n\nTickets are $1 a piece or $3 for 5 tickets.
X-ALT-DESC;FMTTYPE=text/html:<span style="color:rgb(78\, 86\, 101)\; font-family:helvetica\,arial\,sans-serif\; font-size:14px">The Prevent Child Abuse Club at UNG is hosting a double elimination dodgeball tournament to benefit Lumpkin County Family Connection on April 13th. Get a team together and register with Alison at amkigh0743@ung.edu! Earn easy community service hours while having a blast!</span><br />\n<br />\n<span style="color:rgb(78\, 86\, 101)\; font-family:helvetica\,arial\,sans-serif\; font-size:14px">Teams of 7 enter at $35! Come and represent your organaztion or group. Facutly\, Students\, Community Members\, and Clubs are invited to participate!! All are encouraged to make a team and represent themselves! First place team will receive prizes.&nbsp\;</span><br />\n<br />\n<span style="color:rgb(78\, 86\, 101)\; font-family:helvetica\,arial\,sans-serif\; font-size:14px">Our raffle winners will be announced during the games!</span><br />\n<span style="color:rgb(78\, 86\, 101)\; font-family:helvetica\,arial\,sans-serif\; font-size:14px">Tickets are $1 a piece or $3 for 5 tickets.</span>
LOCATION:UNG Memorial Hall Gym
UID:e.69.30640
SEQUENCE:3
DTSTAMP:20260422T102616Z
URL:https://members.dahlonega.org/events/details/dodgeball-for-dahlonega-04-13-2016-30640
END:VEVENT

END:VCALENDAR
