BEGIN:VCALENDAR
VERSION:2.0
PRODID:-//ChamberMaster//Event Calendar 2.0//EN
METHOD:PUBLISH
X-PUBLISHED-TTL:P3D
REFRESH-INTERVAL:P3D
CALSCALE:GREGORIAN
BEGIN:VEVENT
DTSTART:20180926T220000Z
DTEND:20180927T003000Z
X-MICROSOFT-CDO-ALLDAYEVENT:FALSE
SUMMARY:Digital Darkroom
DESCRIPTION:Take photographs to a new level using Photoshop as an editing tool. Students will learn how to select objects\, extract or enhance\, perform color corrections\, crop images\, create composites\, perform black and white conversions\, and set up for printing.\n\n\n\nPrerequisite: Photography 1 - Beginner
X-ALT-DESC;FMTTYPE=text/html:Take photographs to a new level using Photoshop as an editing tool. Students will learn how to select objects\, extract or enhance\, perform color corrections\, crop images\, create composites\, perform black and white conversions\, and set up for printing.<br />\n<br />\nPrerequisite: Photography 1 - Beginner
LOCATION:University of North Georgia Professional and Continuing Education 25 Schultz Avenue Dahlonega\, GA 30533
UID:e.69.49623
SEQUENCE:3
DTSTAMP:20260420T085641Z
URL:https://members.dahlonega.org/events/details/digital-darkroom-09-26-2018-49623
END:VEVENT

END:VCALENDAR
