BEGIN:VCALENDAR
VERSION:2.0
PRODID:-//ChamberMaster//Event Calendar 2.0//EN
METHOD:PUBLISH
X-PUBLISHED-TTL:P3D
REFRESH-INTERVAL:P3D
CALSCALE:GREGORIAN
BEGIN:VEVENT
DTSTART:20160602T203000Z
DTEND:20160605T150000Z
X-MICROSOFT-CDO-ALLDAYEVENT:FALSE
SUMMARY:Deep into the Heart of Yoga: Communing with the Divine
DESCRIPTION:Yoga with Heart\n\nInvites you to join Elizabeth Yates\n\nFor a spring yoga retreat\n\nDeep Into the Heart of Yoga\n\n\n\nYoga transforms lives.  Students who consistently study and practice experience a deepening peace in their daily lives and a direct connection to the Divine within.\n\n\n\nHeart practices are key to this connection\, and the practices conveyed at this retreat arise from the Yoga Sutras\, the most ancient wisdom text. The retreat will harmonize the elements of our beings. We will study and contemplate yoga philosophy\, learn physical practices that lighten the body\, acquire breathing practices to heighten prana\, and become familiar with meditative practices that focus the mind.  \n\n\n\nRetreat leader Elizabeth Yates is a Structural Yoga Therapist with over 20 years experience practicing and teaching yoga. Her devoted study and cultivated capacity for deep love shine forth in her teaching. As a student of Mukunda Stiles\, adapting Yoga to the individual is her mantra. Elizabeth is also a sincere student of Vedanta\, Bhakti\, and Christianity   "Truth is one\; sages call it by many names."\n\n\n\nPrices range from at $600-$800 all inclusive\, cost varies with accommodation type.  Included are 3 nights accommodations\, delicious\, healthy meals beginning with dinner Thursday through breakfast on Sunday.  Beautiful hiking trails\, Jacuzzi\, porch sitting to relax and listen to the wind chimes.  Two yoga classes daily and evening events.  Often live music is part the ambience during dinner.  Program starts 4:30 on Thursday and concludes 11:00 on Sunday.  Registration is limited.  Reserve your space with 50% deposit now and balance due 7 days prior to retreat.  Contact Elizabeth @ 404-210-6800 or yogini2001@gmail.com
X-ALT-DESC;FMTTYPE=text/html:Yoga with Heart<br />\nInvites you to join Elizabeth Yates<br />\nFor a spring yoga retreat<br />\nDeep Into the Heart of Yoga<br />\n<br />\nYoga transforms lives. &nbsp\;Students who consistently study and practice experience a deepening peace in their daily lives and a direct connection to the Divine within.<br />\n<br />\nHeart practices are key to this connection\, and the practices conveyed at this retreat arise from the Yoga Sutras\, the most ancient wisdom text. The retreat will harmonize the elements of our beings. We will study and contemplate yoga philosophy\, learn physical practices that lighten the body\, acquire breathing practices to heighten prana\, and become familiar with meditative practices that focus the mind. &nbsp\;<br />\n<br />\nRetreat leader Elizabeth Yates is a Structural Yoga Therapist with over 20 years experience practicing and teaching yoga. Her devoted study and cultivated capacity for deep love shine forth in her teaching. As a student of Mukunda Stiles\, adapting Yoga to the individual is her mantra. Elizabeth is also a sincere student of Vedanta\, Bhakti\, and Christianity &ndash\; &ldquo\;Truth is one\; sages call it by many names.&rdquo\;<br />\n<br />\nPrices range from at $600-$800 all inclusive\, cost varies with accommodation type. &nbsp\;Included are 3 nights accommodations\, delicious\, healthy meals beginning with dinner Thursday through breakfast on Sunday. &nbsp\;Beautiful hiking trails\, Jacuzzi\, porch sitting to relax and listen to the wind chimes. &nbsp\;Two yoga classes daily and evening events. &nbsp\;Often live music is part the ambience during dinner. &nbsp\;Program starts 4:30 on Thursday and concludes 11:00 on Sunday. &nbsp\;Registration is limited. &nbsp\;Reserve your space with 50% deposit now and balance due 7 days prior to retreat. &nbsp\;Contact Elizabeth @ 404-210-6800 or yogini2001@gmail.com
LOCATION:Dahlonega Spa Resort\, 400 Blueberry Hill\, Dahlonega\, GA 30533
UID:e.69.30509
SEQUENCE:3
DTSTAMP:20260422T105801Z
URL:https://members.dahlonega.org/events/details/deep-into-the-heart-of-yoga-communing-with-the-divine-06-02-2016-30509
END:VEVENT

END:VCALENDAR
