BEGIN:VCALENDAR
VERSION:2.0
PRODID:-//ChamberMaster//Event Calendar 2.0//EN
METHOD:PUBLISH
X-PUBLISHED-TTL:P3D
REFRESH-INTERVAL:P3D
CALSCALE:GREGORIAN
BEGIN:VEVENT
DTSTART:20180918T180000Z
DTEND:20180918T220000Z
X-MICROSOFT-CDO-ALLDAYEVENT:FALSE
SUMMARY:Dahlonega Farmers Market
DESCRIPTION:Going Shopping? Shop the Dahlonega Farmers Market first for fresh\, local\, and in season produce! Friendly faces as well as the finest quality vegetables\, fruits\, honeys\, culinary herbs\, decorative flowers\, jams\, jellies\, garden seeds\, and baked goods can be found at Dahlonega's Downtown Farmers Market. Rain or shine\, all season long\, over a dozen vendors bring their harvest into town for the pleasure of the folks who want to be sure their food comes from the ground around us.
X-ALT-DESC;FMTTYPE=text/html:<span style="background-color:rgb(255\, 255\, 255)\; color:rgb(29\, 33\, 41)\; font-family:georgia\,serif\; font-size:17px">Going Shopping? Shop the Dahlonega Farmers Market first for fresh\, local\, and in season produce! Friendly faces as well as the finest quality vegetables\, fruits\, honeys\, culinary herbs\, decorative flowers\, jams\, jellies\, garden seeds\, and baked goods can be found at Dahlonega&#39\;s Downtown Farmers Market. Rain or shine\, all season long\, over a dozen vendors bring their harvest into town for the pleasure of the folks who want to be sure their food comes from the ground around us.</span>
LOCATION:Hancock Park
UID:e.69.48601
SEQUENCE:3
DTSTAMP:20260420T090621Z
URL:https://members.dahlonega.org/events/details/dahlonega-farmers-market-09-18-2018-48601
END:VEVENT

END:VCALENDAR
