BEGIN:VCALENDAR
VERSION:2.0
PRODID:-//ChamberMaster//Event Calendar 2.0//EN
METHOD:PUBLISH
X-PUBLISHED-TTL:P3D
REFRESH-INTERVAL:P3D
CALSCALE:GREGORIAN
BEGIN:VEVENT
DTSTART:20160218T223000Z
DTEND:20160219T003000Z
X-MICROSOFT-CDO-ALLDAYEVENT:FALSE
SUMMARY:Chestatee Regional Hospital Presents: Thousand Words Photography Exhibit & Reception
DESCRIPTION:Please join us in the main lobby for a reception on Thursday\, February 18th at 5:30pm to view the exhibit and celebrate the stories of The Thousand Words Photography Project. The photos will be displayed in the main entrance of the hospital for the community to see for the upcoming year. \n\n\n\nThis inspiring show features a collaborative photographic art collection from the last four years\, produced by teams consisting of special needs ConnectAbility photographers\, local professional and amateur photographers\, and volunteers. \n\n\n\nSpecial guest\, Pam Gross\, mother of a special needs photographer and active ConnectAbility volunteer\, will share the story of how her son\, Jonathan\, was impacted by photography. \n\n\n\nChestatee Regional Hospital is pleased to support and partner with ConnectAbility\, an organization that serves individuals with disabilities and their families\, to display this impressive show. Learn more about ConnectAbility and their mission to create communities where people of all abilities are valued\, included\, and empowered at connectabilityinc.org\n\n\n\nThe reception is open to the public and all are encouraged to attend. Light refreshments will be served.
X-ALT-DESC;FMTTYPE=text/html:<span style="color:rgb(20\, 24\, 35)\; font-family:helvetica\,arial\,sans-serif\; font-size:14px">Please join us in the main lobby for a reception on <strong>Thursday\, February 18th</strong> at <strong>5:30pm</strong> to view the exhibit and celebrate the stories of <a href="https://www.facebook.com/Thousand-Words-Photography-Project-395880297271747/">The Thousand Words Photography Project</a>. The photos will be displayed in the main entrance of the hospital for the community to see for the upcoming year.&nbsp\;</span><br />\n<br />\n<span style="color:rgb(20\, 24\, 35)\; font-family:helvetica\,arial\,sans-serif\; font-size:14px">This inspiring show features a collaborative photographic art collection from the last four years\, produced by teams consisting of special needs ConnectAbility photographers\, local professional and amateur photographers\, and volunteers.&nbsp\;</span><br />\n<br />\n<span style="color:rgb(20\, 24\, 35)\; font-family:helvetica\,arial\,sans-serif\; font-size:14px">Special guest\, Pam Gross\, mother of a special needs photographer and active ConnectAbility volunteer\, will share the story of how her son\, Jonathan\, was impacted by photography.&nbsp\;</span><br />\n<br />\n<span style="color:rgb(20\, 24\, 35)\; font-family:helvetica\,arial\,sans-serif\; font-size:14px">Chestatee Regional Hospital is pleased to support and partner with <a href="http://connectabilityinc.org/">ConnectAbility</a>\, an organization that serves individuals with disabilities and their families\, to display this impressive show. Learn more about ConnectAbility and their mission to create communities where people of all abilities are valued\, included\, and empowered at&nbsp\;</span><a href="http://connectabilityinc.org/" rel="nofollow nofollow" style="color: rgb(59\, 89\, 152)\; cursor: pointer\; text-decoration: none\; font-family: helvetica\, arial\, sans-serif\; font-size: 14px\; line-height: 17.0545px\;" target="_blank">connectabilityinc.org</a><br />\n<br />\n<span style="color:rgb(20\, 24\, 35)\; font-family:helvetica\,arial\,sans-serif\; font-size:14px">The reception is open to the public and all are encouraged to attend. Light refreshments will be served.</span>
LOCATION:Chestatee Regional Hospital 227 Mountain Drive\, Dahlonega\, GA 30533
UID:e.69.30280
SEQUENCE:3
DTSTAMP:20260422T141002Z
URL:https://members.dahlonega.org/events/details/chestatee-regional-hospital-presents-thousand-words-photography-exhibit-reception-02-18-2016-30280
END:VEVENT

END:VCALENDAR
