BEGIN:VCALENDAR
VERSION:2.0
PRODID:-//ChamberMaster//Event Calendar 2.0//EN
METHOD:PUBLISH
X-PUBLISHED-TTL:P3D
REFRESH-INTERVAL:P3D
CALSCALE:GREGORIAN
BEGIN:VEVENT
DTSTART:20160227T230000Z
DTEND:20160228T020000Z
X-MICROSOFT-CDO-ALLDAYEVENT:FALSE
SUMMARY:A Thousand Words Gala\, benefiting ConnectAbility
DESCRIPTION:A Thousand Words Gala is a fundraising silent auction showcasing the collaborative works of professional photographers and ConnectAbility students. This red carpet event will be an evening filled with art\, music\, food and friends. All of the proceeds go directly to support ConnectAbility. Limited tickets available so purchase yours today!\n\nThe 4th annual Thousand Words Gala will be on February 27th at R Ranch in Dahlonega. Photographs will be auctioned with proceeds to benefit future educational and project programming for ConnectAbility participants.\n\nPhotographs will be on exhibit at the Bowen Arts Center in Dawsonville\, February 5th through February 19th\, 2016.\n\n\n\nPurchase tickets online at: www.ConnectAbilityinc.org/community-projects
X-ALT-DESC;FMTTYPE=text/html:<p><strong>A Thousand Words Gala</strong> is a fundraising silent auction showcasing the collaborative works of professional photographers and ConnectAbility students. This red carpet event will be an evening filled with art\, music\, food and friends. All of the proceeds go directly to support ConnectAbility. Limited tickets available so purchase yours today!</p>\n\n<p>The 4th annual Thousand Words Gala will be on February 27th at R Ranch in Dahlonega. Photographs will be auctioned with proceeds to benefit future educational and project programming for ConnectAbility participants.</p>\n\n<p>Photographs will be on exhibit at the Bowen Arts Center in Dawsonville\, February 5th through February 19th\, 2016.<br />\n<br />\nPurchase tickets online at: www.ConnectAbilityinc.org/community-projects</p>\n
LOCATION:The R-Ranch in the Mountains
UID:e.69.30066
SEQUENCE:3
DTSTAMP:20260422T133039Z
URL:https://members.dahlonega.org/events/details/a-thousand-words-gala-benefiting-connectability-02-27-2016-30066
END:VEVENT

END:VCALENDAR
