BEGIN:VCALENDAR
VERSION:2.0
PRODID:-//ChamberMaster//Event Calendar 2.0//EN
METHOD:PUBLISH
X-PUBLISHED-TTL:P3D
REFRESH-INTERVAL:P3D
CALSCALE:GREGORIAN
BEGIN:VEVENT
DTSTART:20260501T120000Z
DTEND:20260501T200000Z
X-MICROSOFT-CDO-ALLDAYEVENT:FALSE
SUMMARY:SPRING PLANT SALE
DESCRIPTION:A spring plant sale will be held at the new location of Georgia Mountains Unitarian Universalist Church\, 3155 Morrison Moore Pkwy E (next to Dollar General) on May 1-2.  Perennials\, annuals\, and herbs will be available for purchase from 8:00am to 4:00pm each day.  Cash\, Credit/Debit Cards\, CashApp\, Apple Pay\, and Google Pay will be accepted.
X-ALT-DESC;FMTTYPE=text/html:<span style="font-size:11.0pt">A spring plant sale will be held at the new location of Georgia Mountains Unitarian Universalist Church\, 3155 Morrison Moore Pkwy E (next to Dollar General) on May 1-2.&nbsp\; Perennials\, annuals\, and herbs will be available for purchase from 8:00am to 4:00pm each day.&nbsp\; Cash\, Credit/Debit Cards\, CashApp\, Apple Pay\, and Google Pay will be accepted.</span><br />\n&nbsp\;
LOCATION:Georgia Mountains Unitarian Universalist Church 3155 Morrison Moore Pkwy E Dahlonega
UID:e.69.86812
SEQUENCE:3
DTSTAMP:20260420T212254Z
URL:http://members.dahlonega.org/events/details/spring-plant-sale-05-01-2026-86812
END:VEVENT

END:VCALENDAR
